BEGIN:VCALENDAR
VERSION:2.0
PRODID:-//PLATZprojekt - ECPv6.8.1//NONSGML v1.0//EN
CALSCALE:GREGORIAN
METHOD:PUBLISH
X-WR-CALNAME:PLATZprojekt
X-ORIGINAL-URL:https://platzprojekt.de
X-WR-CALDESC:Veranstaltungen für PLATZprojekt
REFRESH-INTERVAL;VALUE=DURATION:PT1H
X-Robots-Tag:noindex
X-PUBLISHED-TTL:PT1H
BEGIN:VTIMEZONE
TZID:Europe/Berlin
BEGIN:DAYLIGHT
TZOFFSETFROM:+0100
TZOFFSETTO:+0200
TZNAME:CEST
DTSTART:20260329T010000
END:DAYLIGHT
BEGIN:STANDARD
TZOFFSETFROM:+0200
TZOFFSETTO:+0100
TZNAME:CET
DTSTART:20261025T010000
END:STANDARD
END:VTIMEZONE
BEGIN:VEVENT
DTSTART;TZID=Europe/Berlin:20260422T180000
DTEND;TZID=Europe/Berlin:20260422T200000
DTSTAMP:20260422T023216
CREATED:20260113T133759Z
LAST-MODIFIED:20260409T132748Z
UID:10003981-1776880800-1776888000@platzprojekt.de
SUMMARY:Kickboxen von Lumino
DESCRIPTION:Das Kickbox-Angebot von Lumino startet in die nächste Runde.\nNach einer starken ersten Sommer-Phase im Rahmen von Lumino Explore knüpfen wir jetzt daran an und führen das Training fort. \nNeben Technik und Bewegung geht es vor allem um Respekt\, Selbstvertrauen\, Stärke und Zusammenhalt. \n\n📅 jeden Mittwoch | 18:00–20:00 Uhr\n📍 Im Jugendcontainer der PLATZjugend\n👥 für Jugendliche & junge Erwachsene von 14–21 Jahren\n💬 kostenlos\, begleitet von einem erfahrenen Trainer \nDie Plätze sind begrenzt und eine Anmeldung ist daher erforderlich.\nDas geht entweder per E-Mail an info@lumino-hannover.de oder direkt über eine DM bei Instagram an @lumino_hannover
URL:https://platzprojekt.de/programm/kickboxen-von-lumino/2026-04-22/
LOCATION:PLATZprojekt\, Fössestraße 105\, Hannover\, Niedersachsen\, 30453
ORGANIZER;CN="PLATZprojekt e.V.":MAILTO:info@platzprojekt.de
END:VEVENT
BEGIN:VEVENT
DTSTART;TZID=Europe/Berlin:20260422T183000
DTEND;TZID=Europe/Berlin:20260422T203000
DTSTAMP:20260422T023216
CREATED:20241219T125852Z
LAST-MODIFIED:20251210T100846Z
UID:10003704-1776882600-1776889800@platzprojekt.de
SUMMARY:Plenum Barkollektiv
DESCRIPTION:Das Team von der PLATZbar trifft sich regelmäßig auf dem PLATZprojekt\, um kommende Veranstaltungen und alles weitere rund um die PLATZbar zu planen.\nDu hast Lust selbst zu veranstalten\, Veranstaltungen anderer zu betreuen oder einfach mal reinzuschnuppern\, was wir so besprechen? Komm vorbei oder schreib uns eine Mail! \nWir treffen uns wahlweise in der Bar oder im blauen Infocontainer\, bei gutem Wetter auch mal draußen 🙂
URL:https://platzprojekt.de/programm/plenum-barkollektiv-2/2026-04-22/
LOCATION:PLATZprojekt\, Fössestraße 105\, Hannover\, Niedersachsen\, 30453
ORGANIZER;CN="PLATZprojekt e.V.":MAILTO:info@platzprojekt.de
END:VEVENT
END:VCALENDAR