BEGIN:VCALENDAR
VERSION:2.0
PRODID:-//PLATZprojekt - ECPv6.8.1//NONSGML v1.0//EN
CALSCALE:GREGORIAN
METHOD:PUBLISH
X-WR-CALNAME:PLATZprojekt
X-ORIGINAL-URL:https://platzprojekt.de
X-WR-CALDESC:Veranstaltungen für PLATZprojekt
REFRESH-INTERVAL;VALUE=DURATION:PT1H
X-Robots-Tag:noindex
X-PUBLISHED-TTL:PT1H
BEGIN:VTIMEZONE
TZID:Europe/Berlin
BEGIN:DAYLIGHT
TZOFFSETFROM:+0100
TZOFFSETTO:+0200
TZNAME:CEST
DTSTART:20260329T010000
END:DAYLIGHT
BEGIN:STANDARD
TZOFFSETFROM:+0200
TZOFFSETTO:+0100
TZNAME:CET
DTSTART:20261025T010000
END:STANDARD
END:VTIMEZONE
BEGIN:VEVENT
DTSTART;TZID=Europe/Berlin:20260424T160000
DTEND;TZID=Europe/Berlin:20260424T180000
DTSTAMP:20260424T123059
CREATED:20260324T194315Z
LAST-MODIFIED:20260324T194315Z
UID:10003830-1777046400-1777053600@platzprojekt.de
SUMMARY:Abgesagt: blaublau - Wildkräuterworkshop
DESCRIPTION:Am 24.04.26 muss diese Veranstaltung leider entfallen. \nDoch ab Mai heißt es hoffentlich wieder: \nJeden 4. Freitag im Monat um 16 Uhr gibt es blaublau\, den Wildkräuterworkshop. Mit Antonia Jacobsen\, Naturcoach und Künstlerin\, erforschen wir ein unscheinbares Kraut\, sehen es\, lernen es kennen und kosten. Es gibt Malutensilien\, kluge Tipps zum Zeichnen und ein kulinarisches Erlebnis. \nTreffpunkt: blaue Zone Container \nOffen für alle\, die Lust haben mitzumachen\, komm einfach vorbei! \nBei Fragen melde dich gerne bei uns unter  info@die-blaue-zone.de \nInfos zu kurzfristigen Änderungen und Ausfällen findest du auf www.die-blaue-zone.de
URL:https://platzprojekt.de/programm/blau-blau-kunst-und-natur-2-2-3/
LOCATION:PLATZprojekt\, Fössestraße 105\, Hannover\, Niedersachsen\, 30453
ORGANIZER;CN="PLATZprojekt e.V.":MAILTO:info@platzprojekt.de
END:VEVENT
BEGIN:VEVENT
DTSTART;TZID=Europe/Berlin:20260424T180000
DTEND;TZID=Europe/Berlin:20260424T200000
DTSTAMP:20260424T123059
CREATED:20250710T113931Z
LAST-MODIFIED:20260424T084705Z
UID:10004427-1777053600-1777060800@platzprojekt.de
SUMMARY:Bierausschank und Bierverkauf an der Braukiste
DESCRIPTION:Frisch gezapftes Bier von der Braukiste: Probiere unsere wechselnden Biere direkt frisch vom Fass. Nahezu jeden Freitag* ab 18 Uhr an der Braukiste auf dem PLATZprojekt. Je nach Verfügbarkeit gibt es auch Flaschenbier zum Mitnehmen. \nWir freuen uns auf Deinen Besuch! \n\n*Nur am ersten Freitag im Monat sind wir nicht da. \n\nNoch mehr Infos zur Braukiste und den verkauften Biersorten gibts auf der Website \n  \nZur Projekteschreibung
URL:https://platzprojekt.de/programm/bierverkauf-an-der-braukiste/2026-04-24/
LOCATION:PLATZprojekt\, Fössestraße 105\, Hannover\, Niedersachsen\, 30453
ORGANIZER;CN="PLATZprojekt e.V.":MAILTO:info@platzprojekt.de
END:VEVENT
END:VCALENDAR