BEGIN:VCALENDAR
VERSION:2.0
PRODID:-//PLATZprojekt - ECPv6.8.1//NONSGML v1.0//EN
CALSCALE:GREGORIAN
METHOD:PUBLISH
X-WR-CALNAME:PLATZprojekt
X-ORIGINAL-URL:https://platzprojekt.de
X-WR-CALDESC:Veranstaltungen für PLATZprojekt
REFRESH-INTERVAL;VALUE=DURATION:PT1H
X-Robots-Tag:noindex
X-PUBLISHED-TTL:PT1H
BEGIN:VTIMEZONE
TZID:Europe/Berlin
BEGIN:DAYLIGHT
TZOFFSETFROM:+0100
TZOFFSETTO:+0200
TZNAME:CEST
DTSTART:20260329T010000
END:DAYLIGHT
BEGIN:STANDARD
TZOFFSETFROM:+0200
TZOFFSETTO:+0100
TZNAME:CET
DTSTART:20261025T010000
END:STANDARD
END:VTIMEZONE
BEGIN:VEVENT
DTSTART;TZID=Europe/Berlin:20260515T190000
DTEND;TZID=Europe/Berlin:20260515T233000
DTSTAMP:20260419T203040
CREATED:20251125T075432Z
LAST-MODIFIED:20260312T083148Z
UID:10004117-1778871600-1778887800@platzprojekt.de
SUMMARY:Fabulous Friday 🏳️‍🌈 - LGBTQIA+ & Friends Bar Night
DESCRIPTION:In der PLATZbar \n19 – 0 Uhr \nFabulous Friday – Dein entspannter Wochenausklang. 🥳\nJeden dritten Freitag im Monat: Leckere Drinks\, smoother Sound und ein offener\, respektvoller Space für die LGBTQIA+ Community & Freund*innen. Komm vorbei – allein oder mit deinem Lieblingsmenschen! \nAwareness ist uns wichtig! \nFabulous Friday soll ein Saferspace sein – respektvoll\, offen\, achtsam. Belästigungen und Übergriffe jeglicher Art werden nicht toleriert! Achtet bitte auf euch selbst und aufeinander.  Solltet ihr etwas beobachten oder selbst erleben\, wobei unsere Unterstützung gewünscht oder gebraucht wird\, sprecht uns bitte an der Bar an. \nDu willst im Orga-Team mitgestalten? Großartig – wir freuen uns auf dich! Schreib uns gerne auf Insta – auch\, wenn du einfach nur Feedback hast. ✉️ \nAls Helping Hand für 2h an der Theke bekommst du zwei Freigetränke & eine große Portion Teamliebe. ✨ \n  \n\n\n\nWir freuen uns auf euch!
URL:https://platzprojekt.de/programm/lgbtqia-allies-barabend-%f0%9f%8f%b3%ef%b8%8f%f0%9f%8c%88-2/2026-05-15/
LOCATION:PLATZprojekt\, Fössestraße 105\, Hannover\, Niedersachsen\, 30453
ORGANIZER;CN="PLATZprojekt e.V.":MAILTO:info@platzprojekt.de
END:VEVENT
BEGIN:VEVENT
DTSTART;TZID=Europe/Berlin:20260619T190000
DTEND;TZID=Europe/Berlin:20260619T233000
DTSTAMP:20260419T203040
CREATED:20251125T075432Z
LAST-MODIFIED:20260312T083148Z
UID:10004118-1781895600-1781911800@platzprojekt.de
SUMMARY:Fabulous Friday 🏳️‍🌈 - LGBTQIA+ & Friends Bar Night
DESCRIPTION:In der PLATZbar \n19 – 0 Uhr \nFabulous Friday – Dein entspannter Wochenausklang. 🥳\nJeden dritten Freitag im Monat: Leckere Drinks\, smoother Sound und ein offener\, respektvoller Space für die LGBTQIA+ Community & Freund*innen. Komm vorbei – allein oder mit deinem Lieblingsmenschen! \nAwareness ist uns wichtig! \nFabulous Friday soll ein Saferspace sein – respektvoll\, offen\, achtsam. Belästigungen und Übergriffe jeglicher Art werden nicht toleriert! Achtet bitte auf euch selbst und aufeinander.  Solltet ihr etwas beobachten oder selbst erleben\, wobei unsere Unterstützung gewünscht oder gebraucht wird\, sprecht uns bitte an der Bar an. \nDu willst im Orga-Team mitgestalten? Großartig – wir freuen uns auf dich! Schreib uns gerne auf Insta – auch\, wenn du einfach nur Feedback hast. ✉️ \nAls Helping Hand für 2h an der Theke bekommst du zwei Freigetränke & eine große Portion Teamliebe. ✨ \n  \n\n\n\nWir freuen uns auf euch!
URL:https://platzprojekt.de/programm/lgbtqia-allies-barabend-%f0%9f%8f%b3%ef%b8%8f%f0%9f%8c%88-2/2026-06-19/
LOCATION:PLATZprojekt\, Fössestraße 105\, Hannover\, Niedersachsen\, 30453
ORGANIZER;CN="PLATZprojekt e.V.":MAILTO:info@platzprojekt.de
END:VEVENT
BEGIN:VEVENT
DTSTART;TZID=Europe/Berlin:20260717T190000
DTEND;TZID=Europe/Berlin:20260717T233000
DTSTAMP:20260419T203040
CREATED:20251125T075432Z
LAST-MODIFIED:20260312T083148Z
UID:10004119-1784314800-1784331000@platzprojekt.de
SUMMARY:Fabulous Friday 🏳️‍🌈 - LGBTQIA+ & Friends Bar Night
DESCRIPTION:In der PLATZbar \n19 – 0 Uhr \nFabulous Friday – Dein entspannter Wochenausklang. 🥳\nJeden dritten Freitag im Monat: Leckere Drinks\, smoother Sound und ein offener\, respektvoller Space für die LGBTQIA+ Community & Freund*innen. Komm vorbei – allein oder mit deinem Lieblingsmenschen! \nAwareness ist uns wichtig! \nFabulous Friday soll ein Saferspace sein – respektvoll\, offen\, achtsam. Belästigungen und Übergriffe jeglicher Art werden nicht toleriert! Achtet bitte auf euch selbst und aufeinander.  Solltet ihr etwas beobachten oder selbst erleben\, wobei unsere Unterstützung gewünscht oder gebraucht wird\, sprecht uns bitte an der Bar an. \nDu willst im Orga-Team mitgestalten? Großartig – wir freuen uns auf dich! Schreib uns gerne auf Insta – auch\, wenn du einfach nur Feedback hast. ✉️ \nAls Helping Hand für 2h an der Theke bekommst du zwei Freigetränke & eine große Portion Teamliebe. ✨ \n  \n\n\n\nWir freuen uns auf euch!
URL:https://platzprojekt.de/programm/lgbtqia-allies-barabend-%f0%9f%8f%b3%ef%b8%8f%f0%9f%8c%88-2/2026-07-17/
LOCATION:PLATZprojekt\, Fössestraße 105\, Hannover\, Niedersachsen\, 30453
ORGANIZER;CN="PLATZprojekt e.V.":MAILTO:info@platzprojekt.de
END:VEVENT
BEGIN:VEVENT
DTSTART;TZID=Europe/Berlin:20260821T190000
DTEND;TZID=Europe/Berlin:20260821T233000
DTSTAMP:20260419T203040
CREATED:20251125T075432Z
LAST-MODIFIED:20260312T083148Z
UID:10004120-1787338800-1787355000@platzprojekt.de
SUMMARY:Fabulous Friday 🏳️‍🌈 - LGBTQIA+ & Friends Bar Night
DESCRIPTION:In der PLATZbar \n19 – 0 Uhr \nFabulous Friday – Dein entspannter Wochenausklang. 🥳\nJeden dritten Freitag im Monat: Leckere Drinks\, smoother Sound und ein offener\, respektvoller Space für die LGBTQIA+ Community & Freund*innen. Komm vorbei – allein oder mit deinem Lieblingsmenschen! \nAwareness ist uns wichtig! \nFabulous Friday soll ein Saferspace sein – respektvoll\, offen\, achtsam. Belästigungen und Übergriffe jeglicher Art werden nicht toleriert! Achtet bitte auf euch selbst und aufeinander.  Solltet ihr etwas beobachten oder selbst erleben\, wobei unsere Unterstützung gewünscht oder gebraucht wird\, sprecht uns bitte an der Bar an. \nDu willst im Orga-Team mitgestalten? Großartig – wir freuen uns auf dich! Schreib uns gerne auf Insta – auch\, wenn du einfach nur Feedback hast. ✉️ \nAls Helping Hand für 2h an der Theke bekommst du zwei Freigetränke & eine große Portion Teamliebe. ✨ \n  \n\n\n\nWir freuen uns auf euch!
URL:https://platzprojekt.de/programm/lgbtqia-allies-barabend-%f0%9f%8f%b3%ef%b8%8f%f0%9f%8c%88-2/2026-08-21/
LOCATION:PLATZprojekt\, Fössestraße 105\, Hannover\, Niedersachsen\, 30453
ORGANIZER;CN="PLATZprojekt e.V.":MAILTO:info@platzprojekt.de
END:VEVENT
BEGIN:VEVENT
DTSTART;TZID=Europe/Berlin:20260918T190000
DTEND;TZID=Europe/Berlin:20260918T233000
DTSTAMP:20260419T203040
CREATED:20251125T075432Z
LAST-MODIFIED:20260312T083148Z
UID:10004121-1789758000-1789774200@platzprojekt.de
SUMMARY:Fabulous Friday 🏳️‍🌈 - LGBTQIA+ & Friends Bar Night
DESCRIPTION:In der PLATZbar \n19 – 0 Uhr \nFabulous Friday – Dein entspannter Wochenausklang. 🥳\nJeden dritten Freitag im Monat: Leckere Drinks\, smoother Sound und ein offener\, respektvoller Space für die LGBTQIA+ Community & Freund*innen. Komm vorbei – allein oder mit deinem Lieblingsmenschen! \nAwareness ist uns wichtig! \nFabulous Friday soll ein Saferspace sein – respektvoll\, offen\, achtsam. Belästigungen und Übergriffe jeglicher Art werden nicht toleriert! Achtet bitte auf euch selbst und aufeinander.  Solltet ihr etwas beobachten oder selbst erleben\, wobei unsere Unterstützung gewünscht oder gebraucht wird\, sprecht uns bitte an der Bar an. \nDu willst im Orga-Team mitgestalten? Großartig – wir freuen uns auf dich! Schreib uns gerne auf Insta – auch\, wenn du einfach nur Feedback hast. ✉️ \nAls Helping Hand für 2h an der Theke bekommst du zwei Freigetränke & eine große Portion Teamliebe. ✨ \n  \n\n\n\nWir freuen uns auf euch!
URL:https://platzprojekt.de/programm/lgbtqia-allies-barabend-%f0%9f%8f%b3%ef%b8%8f%f0%9f%8c%88-2/2026-09-18/
LOCATION:PLATZprojekt\, Fössestraße 105\, Hannover\, Niedersachsen\, 30453
ORGANIZER;CN="PLATZprojekt e.V.":MAILTO:info@platzprojekt.de
END:VEVENT
BEGIN:VEVENT
DTSTART;TZID=Europe/Berlin:20261016T190000
DTEND;TZID=Europe/Berlin:20261016T233000
DTSTAMP:20260419T203040
CREATED:20251125T075432Z
LAST-MODIFIED:20260312T083148Z
UID:10004122-1792177200-1792193400@platzprojekt.de
SUMMARY:Fabulous Friday 🏳️‍🌈 - LGBTQIA+ & Friends Bar Night
DESCRIPTION:In der PLATZbar \n19 – 0 Uhr \nFabulous Friday – Dein entspannter Wochenausklang. 🥳\nJeden dritten Freitag im Monat: Leckere Drinks\, smoother Sound und ein offener\, respektvoller Space für die LGBTQIA+ Community & Freund*innen. Komm vorbei – allein oder mit deinem Lieblingsmenschen! \nAwareness ist uns wichtig! \nFabulous Friday soll ein Saferspace sein – respektvoll\, offen\, achtsam. Belästigungen und Übergriffe jeglicher Art werden nicht toleriert! Achtet bitte auf euch selbst und aufeinander.  Solltet ihr etwas beobachten oder selbst erleben\, wobei unsere Unterstützung gewünscht oder gebraucht wird\, sprecht uns bitte an der Bar an. \nDu willst im Orga-Team mitgestalten? Großartig – wir freuen uns auf dich! Schreib uns gerne auf Insta – auch\, wenn du einfach nur Feedback hast. ✉️ \nAls Helping Hand für 2h an der Theke bekommst du zwei Freigetränke & eine große Portion Teamliebe. ✨ \n  \n\n\n\nWir freuen uns auf euch!
URL:https://platzprojekt.de/programm/lgbtqia-allies-barabend-%f0%9f%8f%b3%ef%b8%8f%f0%9f%8c%88-2/2026-10-16/
LOCATION:PLATZprojekt\, Fössestraße 105\, Hannover\, Niedersachsen\, 30453
ORGANIZER;CN="PLATZprojekt e.V.":MAILTO:info@platzprojekt.de
END:VEVENT
BEGIN:VEVENT
DTSTART;TZID=Europe/Berlin:20261120T190000
DTEND;TZID=Europe/Berlin:20261120T233000
DTSTAMP:20260419T203040
CREATED:20251125T075432Z
LAST-MODIFIED:20260312T083148Z
UID:10004123-1795201200-1795217400@platzprojekt.de
SUMMARY:Fabulous Friday 🏳️‍🌈 - LGBTQIA+ & Friends Bar Night
DESCRIPTION:In der PLATZbar \n19 – 0 Uhr \nFabulous Friday – Dein entspannter Wochenausklang. 🥳\nJeden dritten Freitag im Monat: Leckere Drinks\, smoother Sound und ein offener\, respektvoller Space für die LGBTQIA+ Community & Freund*innen. Komm vorbei – allein oder mit deinem Lieblingsmenschen! \nAwareness ist uns wichtig! \nFabulous Friday soll ein Saferspace sein – respektvoll\, offen\, achtsam. Belästigungen und Übergriffe jeglicher Art werden nicht toleriert! Achtet bitte auf euch selbst und aufeinander.  Solltet ihr etwas beobachten oder selbst erleben\, wobei unsere Unterstützung gewünscht oder gebraucht wird\, sprecht uns bitte an der Bar an. \nDu willst im Orga-Team mitgestalten? Großartig – wir freuen uns auf dich! Schreib uns gerne auf Insta – auch\, wenn du einfach nur Feedback hast. ✉️ \nAls Helping Hand für 2h an der Theke bekommst du zwei Freigetränke & eine große Portion Teamliebe. ✨ \n  \n\n\n\nWir freuen uns auf euch!
URL:https://platzprojekt.de/programm/lgbtqia-allies-barabend-%f0%9f%8f%b3%ef%b8%8f%f0%9f%8c%88-2/2026-11-20/
LOCATION:PLATZprojekt\, Fössestraße 105\, Hannover\, Niedersachsen\, 30453
ORGANIZER;CN="PLATZprojekt e.V.":MAILTO:info@platzprojekt.de
END:VEVENT
END:VCALENDAR